BEGIN:VCALENDAR
VERSION:2.0
PRODID:-//Star of the Sea Catholic Church in San Francisco - ECPv6.15.20//NONSGML v1.0//EN
CALSCALE:GREGORIAN
METHOD:PUBLISH
X-ORIGINAL-URL:https://starparish.com
X-WR-CALDESC:Events for Star of the Sea Catholic Church in San Francisco
REFRESH-INTERVAL;VALUE=DURATION:PT1H
X-Robots-Tag:noindex
X-PUBLISHED-TTL:PT1H
BEGIN:VTIMEZONE
TZID:America/Los_Angeles
BEGIN:DAYLIGHT
TZOFFSETFROM:-0800
TZOFFSETTO:-0700
TZNAME:PDT
DTSTART:20280312T100000
END:DAYLIGHT
BEGIN:STANDARD
TZOFFSETFROM:-0700
TZOFFSETTO:-0800
TZNAME:PST
DTSTART:20281105T090000
END:STANDARD
BEGIN:DAYLIGHT
TZOFFSETFROM:-0800
TZOFFSETTO:-0700
TZNAME:PDT
DTSTART:20290311T100000
END:DAYLIGHT
BEGIN:STANDARD
TZOFFSETFROM:-0700
TZOFFSETTO:-0800
TZNAME:PST
DTSTART:20291104T090000
END:STANDARD
BEGIN:DAYLIGHT
TZOFFSETFROM:-0800
TZOFFSETTO:-0700
TZNAME:PDT
DTSTART:20300310T100000
END:DAYLIGHT
BEGIN:STANDARD
TZOFFSETFROM:-0700
TZOFFSETTO:-0800
TZNAME:PST
DTSTART:20301103T090000
END:STANDARD
END:VTIMEZONE
BEGIN:VEVENT
DTSTART;TZID=America/Los_Angeles:20290308T180000
DTEND;TZID=America/Los_Angeles:20290308T190000
DTSTAMP:20260421T123629
CREATED:20251205T011015Z
LAST-MODIFIED:20251214T233140Z
UID:10000182-1867687200-1867690800@starparish.com
SUMMARY:Our Lady of Fatima Star Pro-Life Apostolate
DESCRIPTION:Prayer Vigils outside the Planned Parenthood Clinic at 1522 Bush St.\, San Francisco\, in reparation and repentance for the sin of abortion and its complete eradication from society. Eucharistic Adoration (individual silent prayer petitions) in the parish adoration chapel every Friday\, 7-8 p.m.
URL:https://starparish.com/event/our-lady-of-fatima-star-pro-life-apostolate/2029-03-08/
LOCATION:Planned Parenthood\, 1522 Bush Street\, San Francisco\, 94109\, United States
ATTACH;FMTTYPE=image/webp:https://starparish.com/wp-content/uploads/2025/12/ProLife-copy2.webp
END:VEVENT
BEGIN:VEVENT
DTSTART;TZID=America/Los_Angeles:20290315T180000
DTEND;TZID=America/Los_Angeles:20290315T190000
DTSTAMP:20260421T123629
CREATED:20251205T011015Z
LAST-MODIFIED:20251214T233140Z
UID:10000183-1868292000-1868295600@starparish.com
SUMMARY:Our Lady of Fatima Star Pro-Life Apostolate
DESCRIPTION:Prayer Vigils outside the Planned Parenthood Clinic at 1522 Bush St.\, San Francisco\, in reparation and repentance for the sin of abortion and its complete eradication from society. Eucharistic Adoration (individual silent prayer petitions) in the parish adoration chapel every Friday\, 7-8 p.m.
URL:https://starparish.com/event/our-lady-of-fatima-star-pro-life-apostolate/2029-03-15/
LOCATION:Planned Parenthood\, 1522 Bush Street\, San Francisco\, 94109\, United States
ATTACH;FMTTYPE=image/webp:https://starparish.com/wp-content/uploads/2025/12/ProLife-copy2.webp
END:VEVENT
BEGIN:VEVENT
DTSTART;TZID=America/Los_Angeles:20290322T180000
DTEND;TZID=America/Los_Angeles:20290322T190000
DTSTAMP:20260421T123629
CREATED:20251205T011015Z
LAST-MODIFIED:20251214T233140Z
UID:10000184-1868896800-1868900400@starparish.com
SUMMARY:Our Lady of Fatima Star Pro-Life Apostolate
DESCRIPTION:Prayer Vigils outside the Planned Parenthood Clinic at 1522 Bush St.\, San Francisco\, in reparation and repentance for the sin of abortion and its complete eradication from society. Eucharistic Adoration (individual silent prayer petitions) in the parish adoration chapel every Friday\, 7-8 p.m.
URL:https://starparish.com/event/our-lady-of-fatima-star-pro-life-apostolate/2029-03-22/
LOCATION:Planned Parenthood\, 1522 Bush Street\, San Francisco\, 94109\, United States
ATTACH;FMTTYPE=image/webp:https://starparish.com/wp-content/uploads/2025/12/ProLife-copy2.webp
END:VEVENT
BEGIN:VEVENT
DTSTART;TZID=America/Los_Angeles:20290329T180000
DTEND;TZID=America/Los_Angeles:20290329T190000
DTSTAMP:20260421T123629
CREATED:20251205T011015Z
LAST-MODIFIED:20251214T233140Z
UID:10000185-1869501600-1869505200@starparish.com
SUMMARY:Our Lady of Fatima Star Pro-Life Apostolate
DESCRIPTION:Prayer Vigils outside the Planned Parenthood Clinic at 1522 Bush St.\, San Francisco\, in reparation and repentance for the sin of abortion and its complete eradication from society. Eucharistic Adoration (individual silent prayer petitions) in the parish adoration chapel every Friday\, 7-8 p.m.
URL:https://starparish.com/event/our-lady-of-fatima-star-pro-life-apostolate/2029-03-29/
LOCATION:Planned Parenthood\, 1522 Bush Street\, San Francisco\, 94109\, United States
ATTACH;FMTTYPE=image/webp:https://starparish.com/wp-content/uploads/2025/12/ProLife-copy2.webp
END:VEVENT
BEGIN:VEVENT
DTSTART;TZID=America/Los_Angeles:20290405T180000
DTEND;TZID=America/Los_Angeles:20290405T190000
DTSTAMP:20260421T123629
CREATED:20251205T011015Z
LAST-MODIFIED:20251214T233140Z
UID:10000186-1870106400-1870110000@starparish.com
SUMMARY:Our Lady of Fatima Star Pro-Life Apostolate
DESCRIPTION:Prayer Vigils outside the Planned Parenthood Clinic at 1522 Bush St.\, San Francisco\, in reparation and repentance for the sin of abortion and its complete eradication from society. Eucharistic Adoration (individual silent prayer petitions) in the parish adoration chapel every Friday\, 7-8 p.m.
URL:https://starparish.com/event/our-lady-of-fatima-star-pro-life-apostolate/2029-04-05/
LOCATION:Planned Parenthood\, 1522 Bush Street\, San Francisco\, 94109\, United States
ATTACH;FMTTYPE=image/webp:https://starparish.com/wp-content/uploads/2025/12/ProLife-copy2.webp
END:VEVENT
BEGIN:VEVENT
DTSTART;TZID=America/Los_Angeles:20290412T180000
DTEND;TZID=America/Los_Angeles:20290412T190000
DTSTAMP:20260421T123629
CREATED:20251205T011015Z
LAST-MODIFIED:20251214T233140Z
UID:10000187-1870711200-1870714800@starparish.com
SUMMARY:Our Lady of Fatima Star Pro-Life Apostolate
DESCRIPTION:Prayer Vigils outside the Planned Parenthood Clinic at 1522 Bush St.\, San Francisco\, in reparation and repentance for the sin of abortion and its complete eradication from society. Eucharistic Adoration (individual silent prayer petitions) in the parish adoration chapel every Friday\, 7-8 p.m.
URL:https://starparish.com/event/our-lady-of-fatima-star-pro-life-apostolate/2029-04-12/
LOCATION:Planned Parenthood\, 1522 Bush Street\, San Francisco\, 94109\, United States
ATTACH;FMTTYPE=image/webp:https://starparish.com/wp-content/uploads/2025/12/ProLife-copy2.webp
END:VEVENT
BEGIN:VEVENT
DTSTART;TZID=America/Los_Angeles:20290419T180000
DTEND;TZID=America/Los_Angeles:20290419T190000
DTSTAMP:20260421T123629
CREATED:20251205T011015Z
LAST-MODIFIED:20251214T233140Z
UID:10000188-1871316000-1871319600@starparish.com
SUMMARY:Our Lady of Fatima Star Pro-Life Apostolate
DESCRIPTION:Prayer Vigils outside the Planned Parenthood Clinic at 1522 Bush St.\, San Francisco\, in reparation and repentance for the sin of abortion and its complete eradication from society. Eucharistic Adoration (individual silent prayer petitions) in the parish adoration chapel every Friday\, 7-8 p.m.
URL:https://starparish.com/event/our-lady-of-fatima-star-pro-life-apostolate/2029-04-19/
LOCATION:Planned Parenthood\, 1522 Bush Street\, San Francisco\, 94109\, United States
ATTACH;FMTTYPE=image/webp:https://starparish.com/wp-content/uploads/2025/12/ProLife-copy2.webp
END:VEVENT
BEGIN:VEVENT
DTSTART;TZID=America/Los_Angeles:20290426T180000
DTEND;TZID=America/Los_Angeles:20290426T190000
DTSTAMP:20260421T123629
CREATED:20251205T011015Z
LAST-MODIFIED:20251214T233140Z
UID:10000189-1871920800-1871924400@starparish.com
SUMMARY:Our Lady of Fatima Star Pro-Life Apostolate
DESCRIPTION:Prayer Vigils outside the Planned Parenthood Clinic at 1522 Bush St.\, San Francisco\, in reparation and repentance for the sin of abortion and its complete eradication from society. Eucharistic Adoration (individual silent prayer petitions) in the parish adoration chapel every Friday\, 7-8 p.m.
URL:https://starparish.com/event/our-lady-of-fatima-star-pro-life-apostolate/2029-04-26/
LOCATION:Planned Parenthood\, 1522 Bush Street\, San Francisco\, 94109\, United States
ATTACH;FMTTYPE=image/webp:https://starparish.com/wp-content/uploads/2025/12/ProLife-copy2.webp
END:VEVENT
BEGIN:VEVENT
DTSTART;TZID=America/Los_Angeles:20290503T180000
DTEND;TZID=America/Los_Angeles:20290503T190000
DTSTAMP:20260421T123629
CREATED:20251205T011015Z
LAST-MODIFIED:20251214T233140Z
UID:10000190-1872525600-1872529200@starparish.com
SUMMARY:Our Lady of Fatima Star Pro-Life Apostolate
DESCRIPTION:Prayer Vigils outside the Planned Parenthood Clinic at 1522 Bush St.\, San Francisco\, in reparation and repentance for the sin of abortion and its complete eradication from society. Eucharistic Adoration (individual silent prayer petitions) in the parish adoration chapel every Friday\, 7-8 p.m.
URL:https://starparish.com/event/our-lady-of-fatima-star-pro-life-apostolate/2029-05-03/
LOCATION:Planned Parenthood\, 1522 Bush Street\, San Francisco\, 94109\, United States
ATTACH;FMTTYPE=image/webp:https://starparish.com/wp-content/uploads/2025/12/ProLife-copy2.webp
END:VEVENT
BEGIN:VEVENT
DTSTART;TZID=America/Los_Angeles:20290510T180000
DTEND;TZID=America/Los_Angeles:20290510T190000
DTSTAMP:20260421T123629
CREATED:20251205T011015Z
LAST-MODIFIED:20251214T233140Z
UID:10000191-1873130400-1873134000@starparish.com
SUMMARY:Our Lady of Fatima Star Pro-Life Apostolate
DESCRIPTION:Prayer Vigils outside the Planned Parenthood Clinic at 1522 Bush St.\, San Francisco\, in reparation and repentance for the sin of abortion and its complete eradication from society. Eucharistic Adoration (individual silent prayer petitions) in the parish adoration chapel every Friday\, 7-8 p.m.
URL:https://starparish.com/event/our-lady-of-fatima-star-pro-life-apostolate/2029-05-10/
LOCATION:Planned Parenthood\, 1522 Bush Street\, San Francisco\, 94109\, United States
ATTACH;FMTTYPE=image/webp:https://starparish.com/wp-content/uploads/2025/12/ProLife-copy2.webp
END:VEVENT
BEGIN:VEVENT
DTSTART;TZID=America/Los_Angeles:20290517T180000
DTEND;TZID=America/Los_Angeles:20290517T190000
DTSTAMP:20260421T123629
CREATED:20251205T011015Z
LAST-MODIFIED:20251214T233140Z
UID:10000192-1873735200-1873738800@starparish.com
SUMMARY:Our Lady of Fatima Star Pro-Life Apostolate
DESCRIPTION:Prayer Vigils outside the Planned Parenthood Clinic at 1522 Bush St.\, San Francisco\, in reparation and repentance for the sin of abortion and its complete eradication from society. Eucharistic Adoration (individual silent prayer petitions) in the parish adoration chapel every Friday\, 7-8 p.m.
URL:https://starparish.com/event/our-lady-of-fatima-star-pro-life-apostolate/2029-05-17/
LOCATION:Planned Parenthood\, 1522 Bush Street\, San Francisco\, 94109\, United States
ATTACH;FMTTYPE=image/webp:https://starparish.com/wp-content/uploads/2025/12/ProLife-copy2.webp
END:VEVENT
BEGIN:VEVENT
DTSTART;TZID=America/Los_Angeles:20290524T180000
DTEND;TZID=America/Los_Angeles:20290524T190000
DTSTAMP:20260421T123629
CREATED:20251205T011015Z
LAST-MODIFIED:20251214T233140Z
UID:10000193-1874340000-1874343600@starparish.com
SUMMARY:Our Lady of Fatima Star Pro-Life Apostolate
DESCRIPTION:Prayer Vigils outside the Planned Parenthood Clinic at 1522 Bush St.\, San Francisco\, in reparation and repentance for the sin of abortion and its complete eradication from society. Eucharistic Adoration (individual silent prayer petitions) in the parish adoration chapel every Friday\, 7-8 p.m.
URL:https://starparish.com/event/our-lady-of-fatima-star-pro-life-apostolate/2029-05-24/
LOCATION:Planned Parenthood\, 1522 Bush Street\, San Francisco\, 94109\, United States
ATTACH;FMTTYPE=image/webp:https://starparish.com/wp-content/uploads/2025/12/ProLife-copy2.webp
END:VEVENT
BEGIN:VEVENT
DTSTART;TZID=America/Los_Angeles:20290531T180000
DTEND;TZID=America/Los_Angeles:20290531T190000
DTSTAMP:20260421T123629
CREATED:20251205T011015Z
LAST-MODIFIED:20251214T233140Z
UID:10000194-1874944800-1874948400@starparish.com
SUMMARY:Our Lady of Fatima Star Pro-Life Apostolate
DESCRIPTION:Prayer Vigils outside the Planned Parenthood Clinic at 1522 Bush St.\, San Francisco\, in reparation and repentance for the sin of abortion and its complete eradication from society. Eucharistic Adoration (individual silent prayer petitions) in the parish adoration chapel every Friday\, 7-8 p.m.
URL:https://starparish.com/event/our-lady-of-fatima-star-pro-life-apostolate/2029-05-31/
LOCATION:Planned Parenthood\, 1522 Bush Street\, San Francisco\, 94109\, United States
ATTACH;FMTTYPE=image/webp:https://starparish.com/wp-content/uploads/2025/12/ProLife-copy2.webp
END:VEVENT
BEGIN:VEVENT
DTSTART;TZID=America/Los_Angeles:20290607T180000
DTEND;TZID=America/Los_Angeles:20290607T190000
DTSTAMP:20260421T123629
CREATED:20251205T011015Z
LAST-MODIFIED:20251214T233140Z
UID:10000195-1875549600-1875553200@starparish.com
SUMMARY:Our Lady of Fatima Star Pro-Life Apostolate
DESCRIPTION:Prayer Vigils outside the Planned Parenthood Clinic at 1522 Bush St.\, San Francisco\, in reparation and repentance for the sin of abortion and its complete eradication from society. Eucharistic Adoration (individual silent prayer petitions) in the parish adoration chapel every Friday\, 7-8 p.m.
URL:https://starparish.com/event/our-lady-of-fatima-star-pro-life-apostolate/2029-06-07/
LOCATION:Planned Parenthood\, 1522 Bush Street\, San Francisco\, 94109\, United States
ATTACH;FMTTYPE=image/webp:https://starparish.com/wp-content/uploads/2025/12/ProLife-copy2.webp
END:VEVENT
BEGIN:VEVENT
DTSTART;TZID=America/Los_Angeles:20290614T180000
DTEND;TZID=America/Los_Angeles:20290614T190000
DTSTAMP:20260421T123629
CREATED:20251205T011015Z
LAST-MODIFIED:20251214T233140Z
UID:10000196-1876154400-1876158000@starparish.com
SUMMARY:Our Lady of Fatima Star Pro-Life Apostolate
DESCRIPTION:Prayer Vigils outside the Planned Parenthood Clinic at 1522 Bush St.\, San Francisco\, in reparation and repentance for the sin of abortion and its complete eradication from society. Eucharistic Adoration (individual silent prayer petitions) in the parish adoration chapel every Friday\, 7-8 p.m.
URL:https://starparish.com/event/our-lady-of-fatima-star-pro-life-apostolate/2029-06-14/
LOCATION:Planned Parenthood\, 1522 Bush Street\, San Francisco\, 94109\, United States
ATTACH;FMTTYPE=image/webp:https://starparish.com/wp-content/uploads/2025/12/ProLife-copy2.webp
END:VEVENT
BEGIN:VEVENT
DTSTART;TZID=America/Los_Angeles:20290621T180000
DTEND;TZID=America/Los_Angeles:20290621T190000
DTSTAMP:20260421T123629
CREATED:20251205T011015Z
LAST-MODIFIED:20251214T233140Z
UID:10000197-1876759200-1876762800@starparish.com
SUMMARY:Our Lady of Fatima Star Pro-Life Apostolate
DESCRIPTION:Prayer Vigils outside the Planned Parenthood Clinic at 1522 Bush St.\, San Francisco\, in reparation and repentance for the sin of abortion and its complete eradication from society. Eucharistic Adoration (individual silent prayer petitions) in the parish adoration chapel every Friday\, 7-8 p.m.
URL:https://starparish.com/event/our-lady-of-fatima-star-pro-life-apostolate/2029-06-21/
LOCATION:Planned Parenthood\, 1522 Bush Street\, San Francisco\, 94109\, United States
ATTACH;FMTTYPE=image/webp:https://starparish.com/wp-content/uploads/2025/12/ProLife-copy2.webp
END:VEVENT
BEGIN:VEVENT
DTSTART;TZID=America/Los_Angeles:20290628T180000
DTEND;TZID=America/Los_Angeles:20290628T190000
DTSTAMP:20260421T123629
CREATED:20251205T011015Z
LAST-MODIFIED:20251214T233140Z
UID:10000198-1877364000-1877367600@starparish.com
SUMMARY:Our Lady of Fatima Star Pro-Life Apostolate
DESCRIPTION:Prayer Vigils outside the Planned Parenthood Clinic at 1522 Bush St.\, San Francisco\, in reparation and repentance for the sin of abortion and its complete eradication from society. Eucharistic Adoration (individual silent prayer petitions) in the parish adoration chapel every Friday\, 7-8 p.m.
URL:https://starparish.com/event/our-lady-of-fatima-star-pro-life-apostolate/2029-06-28/
LOCATION:Planned Parenthood\, 1522 Bush Street\, San Francisco\, 94109\, United States
ATTACH;FMTTYPE=image/webp:https://starparish.com/wp-content/uploads/2025/12/ProLife-copy2.webp
END:VEVENT
BEGIN:VEVENT
DTSTART;TZID=America/Los_Angeles:20290705T180000
DTEND;TZID=America/Los_Angeles:20290705T190000
DTSTAMP:20260421T123629
CREATED:20251205T011015Z
LAST-MODIFIED:20251214T233140Z
UID:10000199-1877968800-1877972400@starparish.com
SUMMARY:Our Lady of Fatima Star Pro-Life Apostolate
DESCRIPTION:Prayer Vigils outside the Planned Parenthood Clinic at 1522 Bush St.\, San Francisco\, in reparation and repentance for the sin of abortion and its complete eradication from society. Eucharistic Adoration (individual silent prayer petitions) in the parish adoration chapel every Friday\, 7-8 p.m.
URL:https://starparish.com/event/our-lady-of-fatima-star-pro-life-apostolate/2029-07-05/
LOCATION:Planned Parenthood\, 1522 Bush Street\, San Francisco\, 94109\, United States
ATTACH;FMTTYPE=image/webp:https://starparish.com/wp-content/uploads/2025/12/ProLife-copy2.webp
END:VEVENT
BEGIN:VEVENT
DTSTART;TZID=America/Los_Angeles:20290712T180000
DTEND;TZID=America/Los_Angeles:20290712T190000
DTSTAMP:20260421T123629
CREATED:20251205T011015Z
LAST-MODIFIED:20251214T233140Z
UID:10000200-1878573600-1878577200@starparish.com
SUMMARY:Our Lady of Fatima Star Pro-Life Apostolate
DESCRIPTION:Prayer Vigils outside the Planned Parenthood Clinic at 1522 Bush St.\, San Francisco\, in reparation and repentance for the sin of abortion and its complete eradication from society. Eucharistic Adoration (individual silent prayer petitions) in the parish adoration chapel every Friday\, 7-8 p.m.
URL:https://starparish.com/event/our-lady-of-fatima-star-pro-life-apostolate/2029-07-12/
LOCATION:Planned Parenthood\, 1522 Bush Street\, San Francisco\, 94109\, United States
ATTACH;FMTTYPE=image/webp:https://starparish.com/wp-content/uploads/2025/12/ProLife-copy2.webp
END:VEVENT
BEGIN:VEVENT
DTSTART;TZID=America/Los_Angeles:20290719T180000
DTEND;TZID=America/Los_Angeles:20290719T190000
DTSTAMP:20260421T123629
CREATED:20251205T011015Z
LAST-MODIFIED:20251214T233140Z
UID:10000201-1879178400-1879182000@starparish.com
SUMMARY:Our Lady of Fatima Star Pro-Life Apostolate
DESCRIPTION:Prayer Vigils outside the Planned Parenthood Clinic at 1522 Bush St.\, San Francisco\, in reparation and repentance for the sin of abortion and its complete eradication from society. Eucharistic Adoration (individual silent prayer petitions) in the parish adoration chapel every Friday\, 7-8 p.m.
URL:https://starparish.com/event/our-lady-of-fatima-star-pro-life-apostolate/2029-07-19/
LOCATION:Planned Parenthood\, 1522 Bush Street\, San Francisco\, 94109\, United States
ATTACH;FMTTYPE=image/webp:https://starparish.com/wp-content/uploads/2025/12/ProLife-copy2.webp
END:VEVENT
BEGIN:VEVENT
DTSTART;TZID=America/Los_Angeles:20290726T180000
DTEND;TZID=America/Los_Angeles:20290726T190000
DTSTAMP:20260421T123629
CREATED:20251205T011015Z
LAST-MODIFIED:20251214T233140Z
UID:10000202-1879783200-1879786800@starparish.com
SUMMARY:Our Lady of Fatima Star Pro-Life Apostolate
DESCRIPTION:Prayer Vigils outside the Planned Parenthood Clinic at 1522 Bush St.\, San Francisco\, in reparation and repentance for the sin of abortion and its complete eradication from society. Eucharistic Adoration (individual silent prayer petitions) in the parish adoration chapel every Friday\, 7-8 p.m.
URL:https://starparish.com/event/our-lady-of-fatima-star-pro-life-apostolate/2029-07-26/
LOCATION:Planned Parenthood\, 1522 Bush Street\, San Francisco\, 94109\, United States
ATTACH;FMTTYPE=image/webp:https://starparish.com/wp-content/uploads/2025/12/ProLife-copy2.webp
END:VEVENT
BEGIN:VEVENT
DTSTART;TZID=America/Los_Angeles:20290802T180000
DTEND;TZID=America/Los_Angeles:20290802T190000
DTSTAMP:20260421T123629
CREATED:20251205T011015Z
LAST-MODIFIED:20251214T233140Z
UID:10000203-1880388000-1880391600@starparish.com
SUMMARY:Our Lady of Fatima Star Pro-Life Apostolate
DESCRIPTION:Prayer Vigils outside the Planned Parenthood Clinic at 1522 Bush St.\, San Francisco\, in reparation and repentance for the sin of abortion and its complete eradication from society. Eucharistic Adoration (individual silent prayer petitions) in the parish adoration chapel every Friday\, 7-8 p.m.
URL:https://starparish.com/event/our-lady-of-fatima-star-pro-life-apostolate/2029-08-02/
LOCATION:Planned Parenthood\, 1522 Bush Street\, San Francisco\, 94109\, United States
ATTACH;FMTTYPE=image/webp:https://starparish.com/wp-content/uploads/2025/12/ProLife-copy2.webp
END:VEVENT
BEGIN:VEVENT
DTSTART;TZID=America/Los_Angeles:20290809T180000
DTEND;TZID=America/Los_Angeles:20290809T190000
DTSTAMP:20260421T123629
CREATED:20251205T011015Z
LAST-MODIFIED:20251214T233140Z
UID:10000204-1880992800-1880996400@starparish.com
SUMMARY:Our Lady of Fatima Star Pro-Life Apostolate
DESCRIPTION:Prayer Vigils outside the Planned Parenthood Clinic at 1522 Bush St.\, San Francisco\, in reparation and repentance for the sin of abortion and its complete eradication from society. Eucharistic Adoration (individual silent prayer petitions) in the parish adoration chapel every Friday\, 7-8 p.m.
URL:https://starparish.com/event/our-lady-of-fatima-star-pro-life-apostolate/2029-08-09/
LOCATION:Planned Parenthood\, 1522 Bush Street\, San Francisco\, 94109\, United States
ATTACH;FMTTYPE=image/webp:https://starparish.com/wp-content/uploads/2025/12/ProLife-copy2.webp
END:VEVENT
BEGIN:VEVENT
DTSTART;TZID=America/Los_Angeles:20290816T180000
DTEND;TZID=America/Los_Angeles:20290816T190000
DTSTAMP:20260421T123629
CREATED:20251205T011015Z
LAST-MODIFIED:20251214T233140Z
UID:10000205-1881597600-1881601200@starparish.com
SUMMARY:Our Lady of Fatima Star Pro-Life Apostolate
DESCRIPTION:Prayer Vigils outside the Planned Parenthood Clinic at 1522 Bush St.\, San Francisco\, in reparation and repentance for the sin of abortion and its complete eradication from society. Eucharistic Adoration (individual silent prayer petitions) in the parish adoration chapel every Friday\, 7-8 p.m.
URL:https://starparish.com/event/our-lady-of-fatima-star-pro-life-apostolate/2029-08-16/
LOCATION:Planned Parenthood\, 1522 Bush Street\, San Francisco\, 94109\, United States
ATTACH;FMTTYPE=image/webp:https://starparish.com/wp-content/uploads/2025/12/ProLife-copy2.webp
END:VEVENT
BEGIN:VEVENT
DTSTART;TZID=America/Los_Angeles:20290823T180000
DTEND;TZID=America/Los_Angeles:20290823T190000
DTSTAMP:20260421T123629
CREATED:20251205T011015Z
LAST-MODIFIED:20251214T233140Z
UID:10000206-1882202400-1882206000@starparish.com
SUMMARY:Our Lady of Fatima Star Pro-Life Apostolate
DESCRIPTION:Prayer Vigils outside the Planned Parenthood Clinic at 1522 Bush St.\, San Francisco\, in reparation and repentance for the sin of abortion and its complete eradication from society. Eucharistic Adoration (individual silent prayer petitions) in the parish adoration chapel every Friday\, 7-8 p.m.
URL:https://starparish.com/event/our-lady-of-fatima-star-pro-life-apostolate/2029-08-23/
LOCATION:Planned Parenthood\, 1522 Bush Street\, San Francisco\, 94109\, United States
ATTACH;FMTTYPE=image/webp:https://starparish.com/wp-content/uploads/2025/12/ProLife-copy2.webp
END:VEVENT
BEGIN:VEVENT
DTSTART;TZID=America/Los_Angeles:20290830T180000
DTEND;TZID=America/Los_Angeles:20290830T190000
DTSTAMP:20260421T123629
CREATED:20251205T011015Z
LAST-MODIFIED:20251214T233140Z
UID:10000207-1882807200-1882810800@starparish.com
SUMMARY:Our Lady of Fatima Star Pro-Life Apostolate
DESCRIPTION:Prayer Vigils outside the Planned Parenthood Clinic at 1522 Bush St.\, San Francisco\, in reparation and repentance for the sin of abortion and its complete eradication from society. Eucharistic Adoration (individual silent prayer petitions) in the parish adoration chapel every Friday\, 7-8 p.m.
URL:https://starparish.com/event/our-lady-of-fatima-star-pro-life-apostolate/2029-08-30/
LOCATION:Planned Parenthood\, 1522 Bush Street\, San Francisco\, 94109\, United States
ATTACH;FMTTYPE=image/webp:https://starparish.com/wp-content/uploads/2025/12/ProLife-copy2.webp
END:VEVENT
BEGIN:VEVENT
DTSTART;TZID=America/Los_Angeles:20290906T180000
DTEND;TZID=America/Los_Angeles:20290906T190000
DTSTAMP:20260421T123629
CREATED:20251205T011015Z
LAST-MODIFIED:20251214T233140Z
UID:10000208-1883412000-1883415600@starparish.com
SUMMARY:Our Lady of Fatima Star Pro-Life Apostolate
DESCRIPTION:Prayer Vigils outside the Planned Parenthood Clinic at 1522 Bush St.\, San Francisco\, in reparation and repentance for the sin of abortion and its complete eradication from society. Eucharistic Adoration (individual silent prayer petitions) in the parish adoration chapel every Friday\, 7-8 p.m.
URL:https://starparish.com/event/our-lady-of-fatima-star-pro-life-apostolate/2029-09-06/
LOCATION:Planned Parenthood\, 1522 Bush Street\, San Francisco\, 94109\, United States
ATTACH;FMTTYPE=image/webp:https://starparish.com/wp-content/uploads/2025/12/ProLife-copy2.webp
END:VEVENT
BEGIN:VEVENT
DTSTART;TZID=America/Los_Angeles:20290913T180000
DTEND;TZID=America/Los_Angeles:20290913T190000
DTSTAMP:20260421T123629
CREATED:20251205T011015Z
LAST-MODIFIED:20251214T233140Z
UID:10000209-1884016800-1884020400@starparish.com
SUMMARY:Our Lady of Fatima Star Pro-Life Apostolate
DESCRIPTION:Prayer Vigils outside the Planned Parenthood Clinic at 1522 Bush St.\, San Francisco\, in reparation and repentance for the sin of abortion and its complete eradication from society. Eucharistic Adoration (individual silent prayer petitions) in the parish adoration chapel every Friday\, 7-8 p.m.
URL:https://starparish.com/event/our-lady-of-fatima-star-pro-life-apostolate/2029-09-13/
LOCATION:Planned Parenthood\, 1522 Bush Street\, San Francisco\, 94109\, United States
ATTACH;FMTTYPE=image/webp:https://starparish.com/wp-content/uploads/2025/12/ProLife-copy2.webp
END:VEVENT
BEGIN:VEVENT
DTSTART;TZID=America/Los_Angeles:20290920T180000
DTEND;TZID=America/Los_Angeles:20290920T190000
DTSTAMP:20260421T123630
CREATED:20251205T011015Z
LAST-MODIFIED:20251214T233140Z
UID:10000210-1884621600-1884625200@starparish.com
SUMMARY:Our Lady of Fatima Star Pro-Life Apostolate
DESCRIPTION:Prayer Vigils outside the Planned Parenthood Clinic at 1522 Bush St.\, San Francisco\, in reparation and repentance for the sin of abortion and its complete eradication from society. Eucharistic Adoration (individual silent prayer petitions) in the parish adoration chapel every Friday\, 7-8 p.m.
URL:https://starparish.com/event/our-lady-of-fatima-star-pro-life-apostolate/2029-09-20/
LOCATION:Planned Parenthood\, 1522 Bush Street\, San Francisco\, 94109\, United States
ATTACH;FMTTYPE=image/webp:https://starparish.com/wp-content/uploads/2025/12/ProLife-copy2.webp
END:VEVENT
BEGIN:VEVENT
DTSTART;TZID=America/Los_Angeles:20290927T180000
DTEND;TZID=America/Los_Angeles:20290927T190000
DTSTAMP:20260421T123630
CREATED:20251205T011015Z
LAST-MODIFIED:20251214T233140Z
UID:10000211-1885226400-1885230000@starparish.com
SUMMARY:Our Lady of Fatima Star Pro-Life Apostolate
DESCRIPTION:Prayer Vigils outside the Planned Parenthood Clinic at 1522 Bush St.\, San Francisco\, in reparation and repentance for the sin of abortion and its complete eradication from society. Eucharistic Adoration (individual silent prayer petitions) in the parish adoration chapel every Friday\, 7-8 p.m.
URL:https://starparish.com/event/our-lady-of-fatima-star-pro-life-apostolate/2029-09-27/
LOCATION:Planned Parenthood\, 1522 Bush Street\, San Francisco\, 94109\, United States
ATTACH;FMTTYPE=image/webp:https://starparish.com/wp-content/uploads/2025/12/ProLife-copy2.webp
END:VEVENT
END:VCALENDAR