BEGIN:VCALENDAR
VERSION:2.0
PRODID:-//Star of the Sea Catholic Church in San Francisco - ECPv6.15.20//NONSGML v1.0//EN
CALSCALE:GREGORIAN
METHOD:PUBLISH
X-ORIGINAL-URL:https://starparish.com
X-WR-CALDESC:Events for Star of the Sea Catholic Church in San Francisco
REFRESH-INTERVAL;VALUE=DURATION:PT1H
X-Robots-Tag:noindex
X-PUBLISHED-TTL:PT1H
BEGIN:VTIMEZONE
TZID:America/Los_Angeles
BEGIN:DAYLIGHT
TZOFFSETFROM:-0800
TZOFFSETTO:-0700
TZNAME:PDT
DTSTART:20270314T100000
END:DAYLIGHT
BEGIN:STANDARD
TZOFFSETFROM:-0700
TZOFFSETTO:-0800
TZNAME:PST
DTSTART:20271107T090000
END:STANDARD
BEGIN:DAYLIGHT
TZOFFSETFROM:-0800
TZOFFSETTO:-0700
TZNAME:PDT
DTSTART:20280312T100000
END:DAYLIGHT
BEGIN:STANDARD
TZOFFSETFROM:-0700
TZOFFSETTO:-0800
TZNAME:PST
DTSTART:20281105T090000
END:STANDARD
BEGIN:DAYLIGHT
TZOFFSETFROM:-0800
TZOFFSETTO:-0700
TZNAME:PDT
DTSTART:20290311T100000
END:DAYLIGHT
BEGIN:STANDARD
TZOFFSETFROM:-0700
TZOFFSETTO:-0800
TZNAME:PST
DTSTART:20291104T090000
END:STANDARD
END:VTIMEZONE
BEGIN:VEVENT
DTSTART;TZID=America/Los_Angeles:20280323T180000
DTEND;TZID=America/Los_Angeles:20280323T190000
DTSTAMP:20260421T085102
CREATED:20251205T011015Z
LAST-MODIFIED:20251214T233140Z
UID:10000132-1837447200-1837450800@starparish.com
SUMMARY:Our Lady of Fatima Star Pro-Life Apostolate
DESCRIPTION:Prayer Vigils outside the Planned Parenthood Clinic at 1522 Bush St.\, San Francisco\, in reparation and repentance for the sin of abortion and its complete eradication from society. Eucharistic Adoration (individual silent prayer petitions) in the parish adoration chapel every Friday\, 7-8 p.m.
URL:https://starparish.com/event/our-lady-of-fatima-star-pro-life-apostolate/2028-03-23/
LOCATION:Planned Parenthood\, 1522 Bush Street\, San Francisco\, 94109\, United States
ATTACH;FMTTYPE=image/webp:https://starparish.com/wp-content/uploads/2025/12/ProLife-copy2.webp
END:VEVENT
BEGIN:VEVENT
DTSTART;TZID=America/Los_Angeles:20280330T180000
DTEND;TZID=America/Los_Angeles:20280330T190000
DTSTAMP:20260421T085102
CREATED:20251205T011015Z
LAST-MODIFIED:20251214T233140Z
UID:10000133-1838052000-1838055600@starparish.com
SUMMARY:Our Lady of Fatima Star Pro-Life Apostolate
DESCRIPTION:Prayer Vigils outside the Planned Parenthood Clinic at 1522 Bush St.\, San Francisco\, in reparation and repentance for the sin of abortion and its complete eradication from society. Eucharistic Adoration (individual silent prayer petitions) in the parish adoration chapel every Friday\, 7-8 p.m.
URL:https://starparish.com/event/our-lady-of-fatima-star-pro-life-apostolate/2028-03-30/
LOCATION:Planned Parenthood\, 1522 Bush Street\, San Francisco\, 94109\, United States
ATTACH;FMTTYPE=image/webp:https://starparish.com/wp-content/uploads/2025/12/ProLife-copy2.webp
END:VEVENT
BEGIN:VEVENT
DTSTART;TZID=America/Los_Angeles:20280406T180000
DTEND;TZID=America/Los_Angeles:20280406T190000
DTSTAMP:20260421T085102
CREATED:20251205T011015Z
LAST-MODIFIED:20251214T233140Z
UID:10000134-1838656800-1838660400@starparish.com
SUMMARY:Our Lady of Fatima Star Pro-Life Apostolate
DESCRIPTION:Prayer Vigils outside the Planned Parenthood Clinic at 1522 Bush St.\, San Francisco\, in reparation and repentance for the sin of abortion and its complete eradication from society. Eucharistic Adoration (individual silent prayer petitions) in the parish adoration chapel every Friday\, 7-8 p.m.
URL:https://starparish.com/event/our-lady-of-fatima-star-pro-life-apostolate/2028-04-06/
LOCATION:Planned Parenthood\, 1522 Bush Street\, San Francisco\, 94109\, United States
ATTACH;FMTTYPE=image/webp:https://starparish.com/wp-content/uploads/2025/12/ProLife-copy2.webp
END:VEVENT
BEGIN:VEVENT
DTSTART;TZID=America/Los_Angeles:20280413T180000
DTEND;TZID=America/Los_Angeles:20280413T190000
DTSTAMP:20260421T085102
CREATED:20251205T011015Z
LAST-MODIFIED:20251214T233140Z
UID:10000135-1839261600-1839265200@starparish.com
SUMMARY:Our Lady of Fatima Star Pro-Life Apostolate
DESCRIPTION:Prayer Vigils outside the Planned Parenthood Clinic at 1522 Bush St.\, San Francisco\, in reparation and repentance for the sin of abortion and its complete eradication from society. Eucharistic Adoration (individual silent prayer petitions) in the parish adoration chapel every Friday\, 7-8 p.m.
URL:https://starparish.com/event/our-lady-of-fatima-star-pro-life-apostolate/2028-04-13/
LOCATION:Planned Parenthood\, 1522 Bush Street\, San Francisco\, 94109\, United States
ATTACH;FMTTYPE=image/webp:https://starparish.com/wp-content/uploads/2025/12/ProLife-copy2.webp
END:VEVENT
BEGIN:VEVENT
DTSTART;TZID=America/Los_Angeles:20280420T180000
DTEND;TZID=America/Los_Angeles:20280420T190000
DTSTAMP:20260421T085102
CREATED:20251205T011015Z
LAST-MODIFIED:20251214T233140Z
UID:10000136-1839866400-1839870000@starparish.com
SUMMARY:Our Lady of Fatima Star Pro-Life Apostolate
DESCRIPTION:Prayer Vigils outside the Planned Parenthood Clinic at 1522 Bush St.\, San Francisco\, in reparation and repentance for the sin of abortion and its complete eradication from society. Eucharistic Adoration (individual silent prayer petitions) in the parish adoration chapel every Friday\, 7-8 p.m.
URL:https://starparish.com/event/our-lady-of-fatima-star-pro-life-apostolate/2028-04-20/
LOCATION:Planned Parenthood\, 1522 Bush Street\, San Francisco\, 94109\, United States
ATTACH;FMTTYPE=image/webp:https://starparish.com/wp-content/uploads/2025/12/ProLife-copy2.webp
END:VEVENT
BEGIN:VEVENT
DTSTART;TZID=America/Los_Angeles:20280427T180000
DTEND;TZID=America/Los_Angeles:20280427T190000
DTSTAMP:20260421T085102
CREATED:20251205T011015Z
LAST-MODIFIED:20251214T233140Z
UID:10000137-1840471200-1840474800@starparish.com
SUMMARY:Our Lady of Fatima Star Pro-Life Apostolate
DESCRIPTION:Prayer Vigils outside the Planned Parenthood Clinic at 1522 Bush St.\, San Francisco\, in reparation and repentance for the sin of abortion and its complete eradication from society. Eucharistic Adoration (individual silent prayer petitions) in the parish adoration chapel every Friday\, 7-8 p.m.
URL:https://starparish.com/event/our-lady-of-fatima-star-pro-life-apostolate/2028-04-27/
LOCATION:Planned Parenthood\, 1522 Bush Street\, San Francisco\, 94109\, United States
ATTACH;FMTTYPE=image/webp:https://starparish.com/wp-content/uploads/2025/12/ProLife-copy2.webp
END:VEVENT
BEGIN:VEVENT
DTSTART;TZID=America/Los_Angeles:20280504T180000
DTEND;TZID=America/Los_Angeles:20280504T190000
DTSTAMP:20260421T085102
CREATED:20251205T011015Z
LAST-MODIFIED:20251214T233140Z
UID:10000138-1841076000-1841079600@starparish.com
SUMMARY:Our Lady of Fatima Star Pro-Life Apostolate
DESCRIPTION:Prayer Vigils outside the Planned Parenthood Clinic at 1522 Bush St.\, San Francisco\, in reparation and repentance for the sin of abortion and its complete eradication from society. Eucharistic Adoration (individual silent prayer petitions) in the parish adoration chapel every Friday\, 7-8 p.m.
URL:https://starparish.com/event/our-lady-of-fatima-star-pro-life-apostolate/2028-05-04/
LOCATION:Planned Parenthood\, 1522 Bush Street\, San Francisco\, 94109\, United States
ATTACH;FMTTYPE=image/webp:https://starparish.com/wp-content/uploads/2025/12/ProLife-copy2.webp
END:VEVENT
BEGIN:VEVENT
DTSTART;TZID=America/Los_Angeles:20280511T180000
DTEND;TZID=America/Los_Angeles:20280511T190000
DTSTAMP:20260421T085102
CREATED:20251205T011015Z
LAST-MODIFIED:20251214T233140Z
UID:10000139-1841680800-1841684400@starparish.com
SUMMARY:Our Lady of Fatima Star Pro-Life Apostolate
DESCRIPTION:Prayer Vigils outside the Planned Parenthood Clinic at 1522 Bush St.\, San Francisco\, in reparation and repentance for the sin of abortion and its complete eradication from society. Eucharistic Adoration (individual silent prayer petitions) in the parish adoration chapel every Friday\, 7-8 p.m.
URL:https://starparish.com/event/our-lady-of-fatima-star-pro-life-apostolate/2028-05-11/
LOCATION:Planned Parenthood\, 1522 Bush Street\, San Francisco\, 94109\, United States
ATTACH;FMTTYPE=image/webp:https://starparish.com/wp-content/uploads/2025/12/ProLife-copy2.webp
END:VEVENT
BEGIN:VEVENT
DTSTART;TZID=America/Los_Angeles:20280518T180000
DTEND;TZID=America/Los_Angeles:20280518T190000
DTSTAMP:20260421T085102
CREATED:20251205T011015Z
LAST-MODIFIED:20251214T233140Z
UID:10000140-1842285600-1842289200@starparish.com
SUMMARY:Our Lady of Fatima Star Pro-Life Apostolate
DESCRIPTION:Prayer Vigils outside the Planned Parenthood Clinic at 1522 Bush St.\, San Francisco\, in reparation and repentance for the sin of abortion and its complete eradication from society. Eucharistic Adoration (individual silent prayer petitions) in the parish adoration chapel every Friday\, 7-8 p.m.
URL:https://starparish.com/event/our-lady-of-fatima-star-pro-life-apostolate/2028-05-18/
LOCATION:Planned Parenthood\, 1522 Bush Street\, San Francisco\, 94109\, United States
ATTACH;FMTTYPE=image/webp:https://starparish.com/wp-content/uploads/2025/12/ProLife-copy2.webp
END:VEVENT
BEGIN:VEVENT
DTSTART;TZID=America/Los_Angeles:20280525T180000
DTEND;TZID=America/Los_Angeles:20280525T190000
DTSTAMP:20260421T085102
CREATED:20251205T011015Z
LAST-MODIFIED:20251214T233140Z
UID:10000141-1842890400-1842894000@starparish.com
SUMMARY:Our Lady of Fatima Star Pro-Life Apostolate
DESCRIPTION:Prayer Vigils outside the Planned Parenthood Clinic at 1522 Bush St.\, San Francisco\, in reparation and repentance for the sin of abortion and its complete eradication from society. Eucharistic Adoration (individual silent prayer petitions) in the parish adoration chapel every Friday\, 7-8 p.m.
URL:https://starparish.com/event/our-lady-of-fatima-star-pro-life-apostolate/2028-05-25/
LOCATION:Planned Parenthood\, 1522 Bush Street\, San Francisco\, 94109\, United States
ATTACH;FMTTYPE=image/webp:https://starparish.com/wp-content/uploads/2025/12/ProLife-copy2.webp
END:VEVENT
BEGIN:VEVENT
DTSTART;TZID=America/Los_Angeles:20280601T180000
DTEND;TZID=America/Los_Angeles:20280601T190000
DTSTAMP:20260421T085102
CREATED:20251205T011015Z
LAST-MODIFIED:20251214T233140Z
UID:10000142-1843495200-1843498800@starparish.com
SUMMARY:Our Lady of Fatima Star Pro-Life Apostolate
DESCRIPTION:Prayer Vigils outside the Planned Parenthood Clinic at 1522 Bush St.\, San Francisco\, in reparation and repentance for the sin of abortion and its complete eradication from society. Eucharistic Adoration (individual silent prayer petitions) in the parish adoration chapel every Friday\, 7-8 p.m.
URL:https://starparish.com/event/our-lady-of-fatima-star-pro-life-apostolate/2028-06-01/
LOCATION:Planned Parenthood\, 1522 Bush Street\, San Francisco\, 94109\, United States
ATTACH;FMTTYPE=image/webp:https://starparish.com/wp-content/uploads/2025/12/ProLife-copy2.webp
END:VEVENT
BEGIN:VEVENT
DTSTART;TZID=America/Los_Angeles:20280608T180000
DTEND;TZID=America/Los_Angeles:20280608T190000
DTSTAMP:20260421T085102
CREATED:20251205T011015Z
LAST-MODIFIED:20251214T233140Z
UID:10000143-1844100000-1844103600@starparish.com
SUMMARY:Our Lady of Fatima Star Pro-Life Apostolate
DESCRIPTION:Prayer Vigils outside the Planned Parenthood Clinic at 1522 Bush St.\, San Francisco\, in reparation and repentance for the sin of abortion and its complete eradication from society. Eucharistic Adoration (individual silent prayer petitions) in the parish adoration chapel every Friday\, 7-8 p.m.
URL:https://starparish.com/event/our-lady-of-fatima-star-pro-life-apostolate/2028-06-08/
LOCATION:Planned Parenthood\, 1522 Bush Street\, San Francisco\, 94109\, United States
ATTACH;FMTTYPE=image/webp:https://starparish.com/wp-content/uploads/2025/12/ProLife-copy2.webp
END:VEVENT
BEGIN:VEVENT
DTSTART;TZID=America/Los_Angeles:20280615T180000
DTEND;TZID=America/Los_Angeles:20280615T190000
DTSTAMP:20260421T085102
CREATED:20251205T011015Z
LAST-MODIFIED:20251214T233140Z
UID:10000144-1844704800-1844708400@starparish.com
SUMMARY:Our Lady of Fatima Star Pro-Life Apostolate
DESCRIPTION:Prayer Vigils outside the Planned Parenthood Clinic at 1522 Bush St.\, San Francisco\, in reparation and repentance for the sin of abortion and its complete eradication from society. Eucharistic Adoration (individual silent prayer petitions) in the parish adoration chapel every Friday\, 7-8 p.m.
URL:https://starparish.com/event/our-lady-of-fatima-star-pro-life-apostolate/2028-06-15/
LOCATION:Planned Parenthood\, 1522 Bush Street\, San Francisco\, 94109\, United States
ATTACH;FMTTYPE=image/webp:https://starparish.com/wp-content/uploads/2025/12/ProLife-copy2.webp
END:VEVENT
BEGIN:VEVENT
DTSTART;TZID=America/Los_Angeles:20280622T180000
DTEND;TZID=America/Los_Angeles:20280622T190000
DTSTAMP:20260421T085102
CREATED:20251205T011015Z
LAST-MODIFIED:20251214T233140Z
UID:10000145-1845309600-1845313200@starparish.com
SUMMARY:Our Lady of Fatima Star Pro-Life Apostolate
DESCRIPTION:Prayer Vigils outside the Planned Parenthood Clinic at 1522 Bush St.\, San Francisco\, in reparation and repentance for the sin of abortion and its complete eradication from society. Eucharistic Adoration (individual silent prayer petitions) in the parish adoration chapel every Friday\, 7-8 p.m.
URL:https://starparish.com/event/our-lady-of-fatima-star-pro-life-apostolate/2028-06-22/
LOCATION:Planned Parenthood\, 1522 Bush Street\, San Francisco\, 94109\, United States
ATTACH;FMTTYPE=image/webp:https://starparish.com/wp-content/uploads/2025/12/ProLife-copy2.webp
END:VEVENT
BEGIN:VEVENT
DTSTART;TZID=America/Los_Angeles:20280629T180000
DTEND;TZID=America/Los_Angeles:20280629T190000
DTSTAMP:20260421T085102
CREATED:20251205T011015Z
LAST-MODIFIED:20251214T233140Z
UID:10000146-1845914400-1845918000@starparish.com
SUMMARY:Our Lady of Fatima Star Pro-Life Apostolate
DESCRIPTION:Prayer Vigils outside the Planned Parenthood Clinic at 1522 Bush St.\, San Francisco\, in reparation and repentance for the sin of abortion and its complete eradication from society. Eucharistic Adoration (individual silent prayer petitions) in the parish adoration chapel every Friday\, 7-8 p.m.
URL:https://starparish.com/event/our-lady-of-fatima-star-pro-life-apostolate/2028-06-29/
LOCATION:Planned Parenthood\, 1522 Bush Street\, San Francisco\, 94109\, United States
ATTACH;FMTTYPE=image/webp:https://starparish.com/wp-content/uploads/2025/12/ProLife-copy2.webp
END:VEVENT
BEGIN:VEVENT
DTSTART;TZID=America/Los_Angeles:20280706T180000
DTEND;TZID=America/Los_Angeles:20280706T190000
DTSTAMP:20260421T085102
CREATED:20251205T011015Z
LAST-MODIFIED:20251214T233140Z
UID:10000147-1846519200-1846522800@starparish.com
SUMMARY:Our Lady of Fatima Star Pro-Life Apostolate
DESCRIPTION:Prayer Vigils outside the Planned Parenthood Clinic at 1522 Bush St.\, San Francisco\, in reparation and repentance for the sin of abortion and its complete eradication from society. Eucharistic Adoration (individual silent prayer petitions) in the parish adoration chapel every Friday\, 7-8 p.m.
URL:https://starparish.com/event/our-lady-of-fatima-star-pro-life-apostolate/2028-07-06/
LOCATION:Planned Parenthood\, 1522 Bush Street\, San Francisco\, 94109\, United States
ATTACH;FMTTYPE=image/webp:https://starparish.com/wp-content/uploads/2025/12/ProLife-copy2.webp
END:VEVENT
BEGIN:VEVENT
DTSTART;TZID=America/Los_Angeles:20280713T180000
DTEND;TZID=America/Los_Angeles:20280713T190000
DTSTAMP:20260421T085102
CREATED:20251205T011015Z
LAST-MODIFIED:20251214T233140Z
UID:10000148-1847124000-1847127600@starparish.com
SUMMARY:Our Lady of Fatima Star Pro-Life Apostolate
DESCRIPTION:Prayer Vigils outside the Planned Parenthood Clinic at 1522 Bush St.\, San Francisco\, in reparation and repentance for the sin of abortion and its complete eradication from society. Eucharistic Adoration (individual silent prayer petitions) in the parish adoration chapel every Friday\, 7-8 p.m.
URL:https://starparish.com/event/our-lady-of-fatima-star-pro-life-apostolate/2028-07-13/
LOCATION:Planned Parenthood\, 1522 Bush Street\, San Francisco\, 94109\, United States
ATTACH;FMTTYPE=image/webp:https://starparish.com/wp-content/uploads/2025/12/ProLife-copy2.webp
END:VEVENT
BEGIN:VEVENT
DTSTART;TZID=America/Los_Angeles:20280720T180000
DTEND;TZID=America/Los_Angeles:20280720T190000
DTSTAMP:20260421T085102
CREATED:20251205T011015Z
LAST-MODIFIED:20251214T233140Z
UID:10000149-1847728800-1847732400@starparish.com
SUMMARY:Our Lady of Fatima Star Pro-Life Apostolate
DESCRIPTION:Prayer Vigils outside the Planned Parenthood Clinic at 1522 Bush St.\, San Francisco\, in reparation and repentance for the sin of abortion and its complete eradication from society. Eucharistic Adoration (individual silent prayer petitions) in the parish adoration chapel every Friday\, 7-8 p.m.
URL:https://starparish.com/event/our-lady-of-fatima-star-pro-life-apostolate/2028-07-20/
LOCATION:Planned Parenthood\, 1522 Bush Street\, San Francisco\, 94109\, United States
ATTACH;FMTTYPE=image/webp:https://starparish.com/wp-content/uploads/2025/12/ProLife-copy2.webp
END:VEVENT
BEGIN:VEVENT
DTSTART;TZID=America/Los_Angeles:20280727T180000
DTEND;TZID=America/Los_Angeles:20280727T190000
DTSTAMP:20260421T085102
CREATED:20251205T011015Z
LAST-MODIFIED:20251214T233140Z
UID:10000150-1848333600-1848337200@starparish.com
SUMMARY:Our Lady of Fatima Star Pro-Life Apostolate
DESCRIPTION:Prayer Vigils outside the Planned Parenthood Clinic at 1522 Bush St.\, San Francisco\, in reparation and repentance for the sin of abortion and its complete eradication from society. Eucharistic Adoration (individual silent prayer petitions) in the parish adoration chapel every Friday\, 7-8 p.m.
URL:https://starparish.com/event/our-lady-of-fatima-star-pro-life-apostolate/2028-07-27/
LOCATION:Planned Parenthood\, 1522 Bush Street\, San Francisco\, 94109\, United States
ATTACH;FMTTYPE=image/webp:https://starparish.com/wp-content/uploads/2025/12/ProLife-copy2.webp
END:VEVENT
BEGIN:VEVENT
DTSTART;TZID=America/Los_Angeles:20280803T180000
DTEND;TZID=America/Los_Angeles:20280803T190000
DTSTAMP:20260421T085102
CREATED:20251205T011015Z
LAST-MODIFIED:20251214T233140Z
UID:10000151-1848938400-1848942000@starparish.com
SUMMARY:Our Lady of Fatima Star Pro-Life Apostolate
DESCRIPTION:Prayer Vigils outside the Planned Parenthood Clinic at 1522 Bush St.\, San Francisco\, in reparation and repentance for the sin of abortion and its complete eradication from society. Eucharistic Adoration (individual silent prayer petitions) in the parish adoration chapel every Friday\, 7-8 p.m.
URL:https://starparish.com/event/our-lady-of-fatima-star-pro-life-apostolate/2028-08-03/
LOCATION:Planned Parenthood\, 1522 Bush Street\, San Francisco\, 94109\, United States
ATTACH;FMTTYPE=image/webp:https://starparish.com/wp-content/uploads/2025/12/ProLife-copy2.webp
END:VEVENT
BEGIN:VEVENT
DTSTART;TZID=America/Los_Angeles:20280810T180000
DTEND;TZID=America/Los_Angeles:20280810T190000
DTSTAMP:20260421T085102
CREATED:20251205T011015Z
LAST-MODIFIED:20251214T233140Z
UID:10000152-1849543200-1849546800@starparish.com
SUMMARY:Our Lady of Fatima Star Pro-Life Apostolate
DESCRIPTION:Prayer Vigils outside the Planned Parenthood Clinic at 1522 Bush St.\, San Francisco\, in reparation and repentance for the sin of abortion and its complete eradication from society. Eucharistic Adoration (individual silent prayer petitions) in the parish adoration chapel every Friday\, 7-8 p.m.
URL:https://starparish.com/event/our-lady-of-fatima-star-pro-life-apostolate/2028-08-10/
LOCATION:Planned Parenthood\, 1522 Bush Street\, San Francisco\, 94109\, United States
ATTACH;FMTTYPE=image/webp:https://starparish.com/wp-content/uploads/2025/12/ProLife-copy2.webp
END:VEVENT
BEGIN:VEVENT
DTSTART;TZID=America/Los_Angeles:20280817T180000
DTEND;TZID=America/Los_Angeles:20280817T190000
DTSTAMP:20260421T085102
CREATED:20251205T011015Z
LAST-MODIFIED:20251214T233140Z
UID:10000153-1850148000-1850151600@starparish.com
SUMMARY:Our Lady of Fatima Star Pro-Life Apostolate
DESCRIPTION:Prayer Vigils outside the Planned Parenthood Clinic at 1522 Bush St.\, San Francisco\, in reparation and repentance for the sin of abortion and its complete eradication from society. Eucharistic Adoration (individual silent prayer petitions) in the parish adoration chapel every Friday\, 7-8 p.m.
URL:https://starparish.com/event/our-lady-of-fatima-star-pro-life-apostolate/2028-08-17/
LOCATION:Planned Parenthood\, 1522 Bush Street\, San Francisco\, 94109\, United States
ATTACH;FMTTYPE=image/webp:https://starparish.com/wp-content/uploads/2025/12/ProLife-copy2.webp
END:VEVENT
BEGIN:VEVENT
DTSTART;TZID=America/Los_Angeles:20280824T180000
DTEND;TZID=America/Los_Angeles:20280824T190000
DTSTAMP:20260421T085102
CREATED:20251205T011015Z
LAST-MODIFIED:20251214T233140Z
UID:10000154-1850752800-1850756400@starparish.com
SUMMARY:Our Lady of Fatima Star Pro-Life Apostolate
DESCRIPTION:Prayer Vigils outside the Planned Parenthood Clinic at 1522 Bush St.\, San Francisco\, in reparation and repentance for the sin of abortion and its complete eradication from society. Eucharistic Adoration (individual silent prayer petitions) in the parish adoration chapel every Friday\, 7-8 p.m.
URL:https://starparish.com/event/our-lady-of-fatima-star-pro-life-apostolate/2028-08-24/
LOCATION:Planned Parenthood\, 1522 Bush Street\, San Francisco\, 94109\, United States
ATTACH;FMTTYPE=image/webp:https://starparish.com/wp-content/uploads/2025/12/ProLife-copy2.webp
END:VEVENT
BEGIN:VEVENT
DTSTART;TZID=America/Los_Angeles:20280831T180000
DTEND;TZID=America/Los_Angeles:20280831T190000
DTSTAMP:20260421T085102
CREATED:20251205T011015Z
LAST-MODIFIED:20251214T233140Z
UID:10000155-1851357600-1851361200@starparish.com
SUMMARY:Our Lady of Fatima Star Pro-Life Apostolate
DESCRIPTION:Prayer Vigils outside the Planned Parenthood Clinic at 1522 Bush St.\, San Francisco\, in reparation and repentance for the sin of abortion and its complete eradication from society. Eucharistic Adoration (individual silent prayer petitions) in the parish adoration chapel every Friday\, 7-8 p.m.
URL:https://starparish.com/event/our-lady-of-fatima-star-pro-life-apostolate/2028-08-31/
LOCATION:Planned Parenthood\, 1522 Bush Street\, San Francisco\, 94109\, United States
ATTACH;FMTTYPE=image/webp:https://starparish.com/wp-content/uploads/2025/12/ProLife-copy2.webp
END:VEVENT
BEGIN:VEVENT
DTSTART;TZID=America/Los_Angeles:20280907T180000
DTEND;TZID=America/Los_Angeles:20280907T190000
DTSTAMP:20260421T085102
CREATED:20251205T011015Z
LAST-MODIFIED:20251214T233140Z
UID:10000156-1851962400-1851966000@starparish.com
SUMMARY:Our Lady of Fatima Star Pro-Life Apostolate
DESCRIPTION:Prayer Vigils outside the Planned Parenthood Clinic at 1522 Bush St.\, San Francisco\, in reparation and repentance for the sin of abortion and its complete eradication from society. Eucharistic Adoration (individual silent prayer petitions) in the parish adoration chapel every Friday\, 7-8 p.m.
URL:https://starparish.com/event/our-lady-of-fatima-star-pro-life-apostolate/2028-09-07/
LOCATION:Planned Parenthood\, 1522 Bush Street\, San Francisco\, 94109\, United States
ATTACH;FMTTYPE=image/webp:https://starparish.com/wp-content/uploads/2025/12/ProLife-copy2.webp
END:VEVENT
BEGIN:VEVENT
DTSTART;TZID=America/Los_Angeles:20280914T180000
DTEND;TZID=America/Los_Angeles:20280914T190000
DTSTAMP:20260421T085102
CREATED:20251205T011015Z
LAST-MODIFIED:20251214T233140Z
UID:10000157-1852567200-1852570800@starparish.com
SUMMARY:Our Lady of Fatima Star Pro-Life Apostolate
DESCRIPTION:Prayer Vigils outside the Planned Parenthood Clinic at 1522 Bush St.\, San Francisco\, in reparation and repentance for the sin of abortion and its complete eradication from society. Eucharistic Adoration (individual silent prayer petitions) in the parish adoration chapel every Friday\, 7-8 p.m.
URL:https://starparish.com/event/our-lady-of-fatima-star-pro-life-apostolate/2028-09-14/
LOCATION:Planned Parenthood\, 1522 Bush Street\, San Francisco\, 94109\, United States
ATTACH;FMTTYPE=image/webp:https://starparish.com/wp-content/uploads/2025/12/ProLife-copy2.webp
END:VEVENT
BEGIN:VEVENT
DTSTART;TZID=America/Los_Angeles:20280921T180000
DTEND;TZID=America/Los_Angeles:20280921T190000
DTSTAMP:20260421T085102
CREATED:20251205T011015Z
LAST-MODIFIED:20251214T233140Z
UID:10000158-1853172000-1853175600@starparish.com
SUMMARY:Our Lady of Fatima Star Pro-Life Apostolate
DESCRIPTION:Prayer Vigils outside the Planned Parenthood Clinic at 1522 Bush St.\, San Francisco\, in reparation and repentance for the sin of abortion and its complete eradication from society. Eucharistic Adoration (individual silent prayer petitions) in the parish adoration chapel every Friday\, 7-8 p.m.
URL:https://starparish.com/event/our-lady-of-fatima-star-pro-life-apostolate/2028-09-21/
LOCATION:Planned Parenthood\, 1522 Bush Street\, San Francisco\, 94109\, United States
ATTACH;FMTTYPE=image/webp:https://starparish.com/wp-content/uploads/2025/12/ProLife-copy2.webp
END:VEVENT
BEGIN:VEVENT
DTSTART;TZID=America/Los_Angeles:20280928T180000
DTEND;TZID=America/Los_Angeles:20280928T190000
DTSTAMP:20260421T085102
CREATED:20251205T011015Z
LAST-MODIFIED:20251214T233140Z
UID:10000159-1853776800-1853780400@starparish.com
SUMMARY:Our Lady of Fatima Star Pro-Life Apostolate
DESCRIPTION:Prayer Vigils outside the Planned Parenthood Clinic at 1522 Bush St.\, San Francisco\, in reparation and repentance for the sin of abortion and its complete eradication from society. Eucharistic Adoration (individual silent prayer petitions) in the parish adoration chapel every Friday\, 7-8 p.m.
URL:https://starparish.com/event/our-lady-of-fatima-star-pro-life-apostolate/2028-09-28/
LOCATION:Planned Parenthood\, 1522 Bush Street\, San Francisco\, 94109\, United States
ATTACH;FMTTYPE=image/webp:https://starparish.com/wp-content/uploads/2025/12/ProLife-copy2.webp
END:VEVENT
BEGIN:VEVENT
DTSTART;TZID=America/Los_Angeles:20281005T180000
DTEND;TZID=America/Los_Angeles:20281005T190000
DTSTAMP:20260421T085103
CREATED:20251205T011015Z
LAST-MODIFIED:20251214T233140Z
UID:10000160-1854381600-1854385200@starparish.com
SUMMARY:Our Lady of Fatima Star Pro-Life Apostolate
DESCRIPTION:Prayer Vigils outside the Planned Parenthood Clinic at 1522 Bush St.\, San Francisco\, in reparation and repentance for the sin of abortion and its complete eradication from society. Eucharistic Adoration (individual silent prayer petitions) in the parish adoration chapel every Friday\, 7-8 p.m.
URL:https://starparish.com/event/our-lady-of-fatima-star-pro-life-apostolate/2028-10-05/
LOCATION:Planned Parenthood\, 1522 Bush Street\, San Francisco\, 94109\, United States
ATTACH;FMTTYPE=image/webp:https://starparish.com/wp-content/uploads/2025/12/ProLife-copy2.webp
END:VEVENT
BEGIN:VEVENT
DTSTART;TZID=America/Los_Angeles:20281012T180000
DTEND;TZID=America/Los_Angeles:20281012T190000
DTSTAMP:20260421T085103
CREATED:20251205T011015Z
LAST-MODIFIED:20251214T233140Z
UID:10000161-1854986400-1854990000@starparish.com
SUMMARY:Our Lady of Fatima Star Pro-Life Apostolate
DESCRIPTION:Prayer Vigils outside the Planned Parenthood Clinic at 1522 Bush St.\, San Francisco\, in reparation and repentance for the sin of abortion and its complete eradication from society. Eucharistic Adoration (individual silent prayer petitions) in the parish adoration chapel every Friday\, 7-8 p.m.
URL:https://starparish.com/event/our-lady-of-fatima-star-pro-life-apostolate/2028-10-12/
LOCATION:Planned Parenthood\, 1522 Bush Street\, San Francisco\, 94109\, United States
ATTACH;FMTTYPE=image/webp:https://starparish.com/wp-content/uploads/2025/12/ProLife-copy2.webp
END:VEVENT
END:VCALENDAR