BEGIN:VCALENDAR
VERSION:2.0
PRODID:-//Star of the Sea Catholic Church in San Francisco - ECPv6.15.20//NONSGML v1.0//EN
CALSCALE:GREGORIAN
METHOD:PUBLISH
X-ORIGINAL-URL:https://starparish.com
X-WR-CALDESC:Events for Star of the Sea Catholic Church in San Francisco
REFRESH-INTERVAL;VALUE=DURATION:PT1H
X-Robots-Tag:noindex
X-PUBLISHED-TTL:PT1H
BEGIN:VTIMEZONE
TZID:America/Los_Angeles
BEGIN:DAYLIGHT
TZOFFSETFROM:-0800
TZOFFSETTO:-0700
TZNAME:PDT
DTSTART:20260308T100000
END:DAYLIGHT
BEGIN:STANDARD
TZOFFSETFROM:-0700
TZOFFSETTO:-0800
TZNAME:PST
DTSTART:20261101T090000
END:STANDARD
BEGIN:DAYLIGHT
TZOFFSETFROM:-0800
TZOFFSETTO:-0700
TZNAME:PDT
DTSTART:20270314T100000
END:DAYLIGHT
BEGIN:STANDARD
TZOFFSETFROM:-0700
TZOFFSETTO:-0800
TZNAME:PST
DTSTART:20271107T090000
END:STANDARD
BEGIN:DAYLIGHT
TZOFFSETFROM:-0800
TZOFFSETTO:-0700
TZNAME:PDT
DTSTART:20280312T100000
END:DAYLIGHT
BEGIN:STANDARD
TZOFFSETFROM:-0700
TZOFFSETTO:-0800
TZNAME:PST
DTSTART:20281105T090000
END:STANDARD
BEGIN:DAYLIGHT
TZOFFSETFROM:-0800
TZOFFSETTO:-0700
TZNAME:PDT
DTSTART:20290311T100000
END:DAYLIGHT
BEGIN:STANDARD
TZOFFSETFROM:-0700
TZOFFSETTO:-0800
TZNAME:PST
DTSTART:20291104T090000
END:STANDARD
END:VTIMEZONE
BEGIN:VEVENT
DTSTART;TZID=America/Los_Angeles:20270930T180000
DTEND;TZID=America/Los_Angeles:20270930T190000
DTSTAMP:20260421T070656
CREATED:20251205T011015Z
LAST-MODIFIED:20251214T233140Z
UID:10000107-1822327200-1822330800@starparish.com
SUMMARY:Our Lady of Fatima Star Pro-Life Apostolate
DESCRIPTION:Prayer Vigils outside the Planned Parenthood Clinic at 1522 Bush St.\, San Francisco\, in reparation and repentance for the sin of abortion and its complete eradication from society. Eucharistic Adoration (individual silent prayer petitions) in the parish adoration chapel every Friday\, 7-8 p.m.
URL:https://starparish.com/event/our-lady-of-fatima-star-pro-life-apostolate/2027-09-30/
LOCATION:Planned Parenthood\, 1522 Bush Street\, San Francisco\, 94109\, United States
ATTACH;FMTTYPE=image/webp:https://starparish.com/wp-content/uploads/2025/12/ProLife-copy2.webp
END:VEVENT
BEGIN:VEVENT
DTSTART;TZID=America/Los_Angeles:20271007T180000
DTEND;TZID=America/Los_Angeles:20271007T190000
DTSTAMP:20260421T070656
CREATED:20251205T011015Z
LAST-MODIFIED:20251214T233140Z
UID:10000108-1822932000-1822935600@starparish.com
SUMMARY:Our Lady of Fatima Star Pro-Life Apostolate
DESCRIPTION:Prayer Vigils outside the Planned Parenthood Clinic at 1522 Bush St.\, San Francisco\, in reparation and repentance for the sin of abortion and its complete eradication from society. Eucharistic Adoration (individual silent prayer petitions) in the parish adoration chapel every Friday\, 7-8 p.m.
URL:https://starparish.com/event/our-lady-of-fatima-star-pro-life-apostolate/2027-10-07/
LOCATION:Planned Parenthood\, 1522 Bush Street\, San Francisco\, 94109\, United States
ATTACH;FMTTYPE=image/webp:https://starparish.com/wp-content/uploads/2025/12/ProLife-copy2.webp
END:VEVENT
BEGIN:VEVENT
DTSTART;TZID=America/Los_Angeles:20271014T180000
DTEND;TZID=America/Los_Angeles:20271014T190000
DTSTAMP:20260421T070656
CREATED:20251205T011015Z
LAST-MODIFIED:20251214T233140Z
UID:10000109-1823536800-1823540400@starparish.com
SUMMARY:Our Lady of Fatima Star Pro-Life Apostolate
DESCRIPTION:Prayer Vigils outside the Planned Parenthood Clinic at 1522 Bush St.\, San Francisco\, in reparation and repentance for the sin of abortion and its complete eradication from society. Eucharistic Adoration (individual silent prayer petitions) in the parish adoration chapel every Friday\, 7-8 p.m.
URL:https://starparish.com/event/our-lady-of-fatima-star-pro-life-apostolate/2027-10-14/
LOCATION:Planned Parenthood\, 1522 Bush Street\, San Francisco\, 94109\, United States
ATTACH;FMTTYPE=image/webp:https://starparish.com/wp-content/uploads/2025/12/ProLife-copy2.webp
END:VEVENT
BEGIN:VEVENT
DTSTART;TZID=America/Los_Angeles:20271021T180000
DTEND;TZID=America/Los_Angeles:20271021T190000
DTSTAMP:20260421T070656
CREATED:20251205T011015Z
LAST-MODIFIED:20251214T233140Z
UID:10000110-1824141600-1824145200@starparish.com
SUMMARY:Our Lady of Fatima Star Pro-Life Apostolate
DESCRIPTION:Prayer Vigils outside the Planned Parenthood Clinic at 1522 Bush St.\, San Francisco\, in reparation and repentance for the sin of abortion and its complete eradication from society. Eucharistic Adoration (individual silent prayer petitions) in the parish adoration chapel every Friday\, 7-8 p.m.
URL:https://starparish.com/event/our-lady-of-fatima-star-pro-life-apostolate/2027-10-21/
LOCATION:Planned Parenthood\, 1522 Bush Street\, San Francisco\, 94109\, United States
ATTACH;FMTTYPE=image/webp:https://starparish.com/wp-content/uploads/2025/12/ProLife-copy2.webp
END:VEVENT
BEGIN:VEVENT
DTSTART;TZID=America/Los_Angeles:20271028T180000
DTEND;TZID=America/Los_Angeles:20271028T190000
DTSTAMP:20260421T070656
CREATED:20251205T011015Z
LAST-MODIFIED:20251214T233140Z
UID:10000111-1824746400-1824750000@starparish.com
SUMMARY:Our Lady of Fatima Star Pro-Life Apostolate
DESCRIPTION:Prayer Vigils outside the Planned Parenthood Clinic at 1522 Bush St.\, San Francisco\, in reparation and repentance for the sin of abortion and its complete eradication from society. Eucharistic Adoration (individual silent prayer petitions) in the parish adoration chapel every Friday\, 7-8 p.m.
URL:https://starparish.com/event/our-lady-of-fatima-star-pro-life-apostolate/2027-10-28/
LOCATION:Planned Parenthood\, 1522 Bush Street\, San Francisco\, 94109\, United States
ATTACH;FMTTYPE=image/webp:https://starparish.com/wp-content/uploads/2025/12/ProLife-copy2.webp
END:VEVENT
BEGIN:VEVENT
DTSTART;TZID=America/Los_Angeles:20271104T180000
DTEND;TZID=America/Los_Angeles:20271104T190000
DTSTAMP:20260421T070656
CREATED:20251205T011015Z
LAST-MODIFIED:20251214T233140Z
UID:10000112-1825351200-1825354800@starparish.com
SUMMARY:Our Lady of Fatima Star Pro-Life Apostolate
DESCRIPTION:Prayer Vigils outside the Planned Parenthood Clinic at 1522 Bush St.\, San Francisco\, in reparation and repentance for the sin of abortion and its complete eradication from society. Eucharistic Adoration (individual silent prayer petitions) in the parish adoration chapel every Friday\, 7-8 p.m.
URL:https://starparish.com/event/our-lady-of-fatima-star-pro-life-apostolate/2027-11-04/
LOCATION:Planned Parenthood\, 1522 Bush Street\, San Francisco\, 94109\, United States
ATTACH;FMTTYPE=image/webp:https://starparish.com/wp-content/uploads/2025/12/ProLife-copy2.webp
END:VEVENT
BEGIN:VEVENT
DTSTART;TZID=America/Los_Angeles:20271111T180000
DTEND;TZID=America/Los_Angeles:20271111T190000
DTSTAMP:20260421T070656
CREATED:20251205T011015Z
LAST-MODIFIED:20251214T233140Z
UID:10000113-1825956000-1825959600@starparish.com
SUMMARY:Our Lady of Fatima Star Pro-Life Apostolate
DESCRIPTION:Prayer Vigils outside the Planned Parenthood Clinic at 1522 Bush St.\, San Francisco\, in reparation and repentance for the sin of abortion and its complete eradication from society. Eucharistic Adoration (individual silent prayer petitions) in the parish adoration chapel every Friday\, 7-8 p.m.
URL:https://starparish.com/event/our-lady-of-fatima-star-pro-life-apostolate/2027-11-11/
LOCATION:Planned Parenthood\, 1522 Bush Street\, San Francisco\, 94109\, United States
ATTACH;FMTTYPE=image/webp:https://starparish.com/wp-content/uploads/2025/12/ProLife-copy2.webp
END:VEVENT
BEGIN:VEVENT
DTSTART;TZID=America/Los_Angeles:20271118T180000
DTEND;TZID=America/Los_Angeles:20271118T190000
DTSTAMP:20260421T070656
CREATED:20251205T011015Z
LAST-MODIFIED:20251214T233140Z
UID:10000114-1826560800-1826564400@starparish.com
SUMMARY:Our Lady of Fatima Star Pro-Life Apostolate
DESCRIPTION:Prayer Vigils outside the Planned Parenthood Clinic at 1522 Bush St.\, San Francisco\, in reparation and repentance for the sin of abortion and its complete eradication from society. Eucharistic Adoration (individual silent prayer petitions) in the parish adoration chapel every Friday\, 7-8 p.m.
URL:https://starparish.com/event/our-lady-of-fatima-star-pro-life-apostolate/2027-11-18/
LOCATION:Planned Parenthood\, 1522 Bush Street\, San Francisco\, 94109\, United States
ATTACH;FMTTYPE=image/webp:https://starparish.com/wp-content/uploads/2025/12/ProLife-copy2.webp
END:VEVENT
BEGIN:VEVENT
DTSTART;TZID=America/Los_Angeles:20271125T180000
DTEND;TZID=America/Los_Angeles:20271125T190000
DTSTAMP:20260421T070656
CREATED:20251205T011015Z
LAST-MODIFIED:20251214T233140Z
UID:10000115-1827165600-1827169200@starparish.com
SUMMARY:Our Lady of Fatima Star Pro-Life Apostolate
DESCRIPTION:Prayer Vigils outside the Planned Parenthood Clinic at 1522 Bush St.\, San Francisco\, in reparation and repentance for the sin of abortion and its complete eradication from society. Eucharistic Adoration (individual silent prayer petitions) in the parish adoration chapel every Friday\, 7-8 p.m.
URL:https://starparish.com/event/our-lady-of-fatima-star-pro-life-apostolate/2027-11-25/
LOCATION:Planned Parenthood\, 1522 Bush Street\, San Francisco\, 94109\, United States
ATTACH;FMTTYPE=image/webp:https://starparish.com/wp-content/uploads/2025/12/ProLife-copy2.webp
END:VEVENT
BEGIN:VEVENT
DTSTART;TZID=America/Los_Angeles:20271202T180000
DTEND;TZID=America/Los_Angeles:20271202T190000
DTSTAMP:20260421T070656
CREATED:20251205T011015Z
LAST-MODIFIED:20251214T233140Z
UID:10000116-1827770400-1827774000@starparish.com
SUMMARY:Our Lady of Fatima Star Pro-Life Apostolate
DESCRIPTION:Prayer Vigils outside the Planned Parenthood Clinic at 1522 Bush St.\, San Francisco\, in reparation and repentance for the sin of abortion and its complete eradication from society. Eucharistic Adoration (individual silent prayer petitions) in the parish adoration chapel every Friday\, 7-8 p.m.
URL:https://starparish.com/event/our-lady-of-fatima-star-pro-life-apostolate/2027-12-02/
LOCATION:Planned Parenthood\, 1522 Bush Street\, San Francisco\, 94109\, United States
ATTACH;FMTTYPE=image/webp:https://starparish.com/wp-content/uploads/2025/12/ProLife-copy2.webp
END:VEVENT
BEGIN:VEVENT
DTSTART;TZID=America/Los_Angeles:20271209T180000
DTEND;TZID=America/Los_Angeles:20271209T190000
DTSTAMP:20260421T070656
CREATED:20251205T011015Z
LAST-MODIFIED:20251214T233140Z
UID:10000117-1828375200-1828378800@starparish.com
SUMMARY:Our Lady of Fatima Star Pro-Life Apostolate
DESCRIPTION:Prayer Vigils outside the Planned Parenthood Clinic at 1522 Bush St.\, San Francisco\, in reparation and repentance for the sin of abortion and its complete eradication from society. Eucharistic Adoration (individual silent prayer petitions) in the parish adoration chapel every Friday\, 7-8 p.m.
URL:https://starparish.com/event/our-lady-of-fatima-star-pro-life-apostolate/2027-12-09/
LOCATION:Planned Parenthood\, 1522 Bush Street\, San Francisco\, 94109\, United States
ATTACH;FMTTYPE=image/webp:https://starparish.com/wp-content/uploads/2025/12/ProLife-copy2.webp
END:VEVENT
BEGIN:VEVENT
DTSTART;TZID=America/Los_Angeles:20271216T180000
DTEND;TZID=America/Los_Angeles:20271216T190000
DTSTAMP:20260421T070656
CREATED:20251205T011015Z
LAST-MODIFIED:20251214T233140Z
UID:10000118-1828980000-1828983600@starparish.com
SUMMARY:Our Lady of Fatima Star Pro-Life Apostolate
DESCRIPTION:Prayer Vigils outside the Planned Parenthood Clinic at 1522 Bush St.\, San Francisco\, in reparation and repentance for the sin of abortion and its complete eradication from society. Eucharistic Adoration (individual silent prayer petitions) in the parish adoration chapel every Friday\, 7-8 p.m.
URL:https://starparish.com/event/our-lady-of-fatima-star-pro-life-apostolate/2027-12-16/
LOCATION:Planned Parenthood\, 1522 Bush Street\, San Francisco\, 94109\, United States
ATTACH;FMTTYPE=image/webp:https://starparish.com/wp-content/uploads/2025/12/ProLife-copy2.webp
END:VEVENT
BEGIN:VEVENT
DTSTART;TZID=America/Los_Angeles:20271223T180000
DTEND;TZID=America/Los_Angeles:20271223T190000
DTSTAMP:20260421T070656
CREATED:20251205T011015Z
LAST-MODIFIED:20251214T233140Z
UID:10000119-1829584800-1829588400@starparish.com
SUMMARY:Our Lady of Fatima Star Pro-Life Apostolate
DESCRIPTION:Prayer Vigils outside the Planned Parenthood Clinic at 1522 Bush St.\, San Francisco\, in reparation and repentance for the sin of abortion and its complete eradication from society. Eucharistic Adoration (individual silent prayer petitions) in the parish adoration chapel every Friday\, 7-8 p.m.
URL:https://starparish.com/event/our-lady-of-fatima-star-pro-life-apostolate/2027-12-23/
LOCATION:Planned Parenthood\, 1522 Bush Street\, San Francisco\, 94109\, United States
ATTACH;FMTTYPE=image/webp:https://starparish.com/wp-content/uploads/2025/12/ProLife-copy2.webp
END:VEVENT
BEGIN:VEVENT
DTSTART;TZID=America/Los_Angeles:20271230T180000
DTEND;TZID=America/Los_Angeles:20271230T190000
DTSTAMP:20260421T070656
CREATED:20251205T011015Z
LAST-MODIFIED:20251214T233140Z
UID:10000120-1830189600-1830193200@starparish.com
SUMMARY:Our Lady of Fatima Star Pro-Life Apostolate
DESCRIPTION:Prayer Vigils outside the Planned Parenthood Clinic at 1522 Bush St.\, San Francisco\, in reparation and repentance for the sin of abortion and its complete eradication from society. Eucharistic Adoration (individual silent prayer petitions) in the parish adoration chapel every Friday\, 7-8 p.m.
URL:https://starparish.com/event/our-lady-of-fatima-star-pro-life-apostolate/2027-12-30/
LOCATION:Planned Parenthood\, 1522 Bush Street\, San Francisco\, 94109\, United States
ATTACH;FMTTYPE=image/webp:https://starparish.com/wp-content/uploads/2025/12/ProLife-copy2.webp
END:VEVENT
BEGIN:VEVENT
DTSTART;TZID=America/Los_Angeles:20280106T180000
DTEND;TZID=America/Los_Angeles:20280106T190000
DTSTAMP:20260421T070656
CREATED:20251205T011015Z
LAST-MODIFIED:20251214T233140Z
UID:10000121-1830794400-1830798000@starparish.com
SUMMARY:Our Lady of Fatima Star Pro-Life Apostolate
DESCRIPTION:Prayer Vigils outside the Planned Parenthood Clinic at 1522 Bush St.\, San Francisco\, in reparation and repentance for the sin of abortion and its complete eradication from society. Eucharistic Adoration (individual silent prayer petitions) in the parish adoration chapel every Friday\, 7-8 p.m.
URL:https://starparish.com/event/our-lady-of-fatima-star-pro-life-apostolate/2028-01-06/
LOCATION:Planned Parenthood\, 1522 Bush Street\, San Francisco\, 94109\, United States
ATTACH;FMTTYPE=image/webp:https://starparish.com/wp-content/uploads/2025/12/ProLife-copy2.webp
END:VEVENT
BEGIN:VEVENT
DTSTART;TZID=America/Los_Angeles:20280113T180000
DTEND;TZID=America/Los_Angeles:20280113T190000
DTSTAMP:20260421T070656
CREATED:20251205T011015Z
LAST-MODIFIED:20251214T233140Z
UID:10000122-1831399200-1831402800@starparish.com
SUMMARY:Our Lady of Fatima Star Pro-Life Apostolate
DESCRIPTION:Prayer Vigils outside the Planned Parenthood Clinic at 1522 Bush St.\, San Francisco\, in reparation and repentance for the sin of abortion and its complete eradication from society. Eucharistic Adoration (individual silent prayer petitions) in the parish adoration chapel every Friday\, 7-8 p.m.
URL:https://starparish.com/event/our-lady-of-fatima-star-pro-life-apostolate/2028-01-13/
LOCATION:Planned Parenthood\, 1522 Bush Street\, San Francisco\, 94109\, United States
ATTACH;FMTTYPE=image/webp:https://starparish.com/wp-content/uploads/2025/12/ProLife-copy2.webp
END:VEVENT
BEGIN:VEVENT
DTSTART;TZID=America/Los_Angeles:20280120T180000
DTEND;TZID=America/Los_Angeles:20280120T190000
DTSTAMP:20260421T070656
CREATED:20251205T011015Z
LAST-MODIFIED:20251214T233140Z
UID:10000123-1832004000-1832007600@starparish.com
SUMMARY:Our Lady of Fatima Star Pro-Life Apostolate
DESCRIPTION:Prayer Vigils outside the Planned Parenthood Clinic at 1522 Bush St.\, San Francisco\, in reparation and repentance for the sin of abortion and its complete eradication from society. Eucharistic Adoration (individual silent prayer petitions) in the parish adoration chapel every Friday\, 7-8 p.m.
URL:https://starparish.com/event/our-lady-of-fatima-star-pro-life-apostolate/2028-01-20/
LOCATION:Planned Parenthood\, 1522 Bush Street\, San Francisco\, 94109\, United States
ATTACH;FMTTYPE=image/webp:https://starparish.com/wp-content/uploads/2025/12/ProLife-copy2.webp
END:VEVENT
BEGIN:VEVENT
DTSTART;TZID=America/Los_Angeles:20280127T180000
DTEND;TZID=America/Los_Angeles:20280127T190000
DTSTAMP:20260421T070656
CREATED:20251205T011015Z
LAST-MODIFIED:20251214T233140Z
UID:10000124-1832608800-1832612400@starparish.com
SUMMARY:Our Lady of Fatima Star Pro-Life Apostolate
DESCRIPTION:Prayer Vigils outside the Planned Parenthood Clinic at 1522 Bush St.\, San Francisco\, in reparation and repentance for the sin of abortion and its complete eradication from society. Eucharistic Adoration (individual silent prayer petitions) in the parish adoration chapel every Friday\, 7-8 p.m.
URL:https://starparish.com/event/our-lady-of-fatima-star-pro-life-apostolate/2028-01-27/
LOCATION:Planned Parenthood\, 1522 Bush Street\, San Francisco\, 94109\, United States
ATTACH;FMTTYPE=image/webp:https://starparish.com/wp-content/uploads/2025/12/ProLife-copy2.webp
END:VEVENT
BEGIN:VEVENT
DTSTART;TZID=America/Los_Angeles:20280203T180000
DTEND;TZID=America/Los_Angeles:20280203T190000
DTSTAMP:20260421T070656
CREATED:20251205T011015Z
LAST-MODIFIED:20251214T233140Z
UID:10000125-1833213600-1833217200@starparish.com
SUMMARY:Our Lady of Fatima Star Pro-Life Apostolate
DESCRIPTION:Prayer Vigils outside the Planned Parenthood Clinic at 1522 Bush St.\, San Francisco\, in reparation and repentance for the sin of abortion and its complete eradication from society. Eucharistic Adoration (individual silent prayer petitions) in the parish adoration chapel every Friday\, 7-8 p.m.
URL:https://starparish.com/event/our-lady-of-fatima-star-pro-life-apostolate/2028-02-03/
LOCATION:Planned Parenthood\, 1522 Bush Street\, San Francisco\, 94109\, United States
ATTACH;FMTTYPE=image/webp:https://starparish.com/wp-content/uploads/2025/12/ProLife-copy2.webp
END:VEVENT
BEGIN:VEVENT
DTSTART;TZID=America/Los_Angeles:20280210T180000
DTEND;TZID=America/Los_Angeles:20280210T190000
DTSTAMP:20260421T070656
CREATED:20251205T011015Z
LAST-MODIFIED:20251214T233140Z
UID:10000126-1833818400-1833822000@starparish.com
SUMMARY:Our Lady of Fatima Star Pro-Life Apostolate
DESCRIPTION:Prayer Vigils outside the Planned Parenthood Clinic at 1522 Bush St.\, San Francisco\, in reparation and repentance for the sin of abortion and its complete eradication from society. Eucharistic Adoration (individual silent prayer petitions) in the parish adoration chapel every Friday\, 7-8 p.m.
URL:https://starparish.com/event/our-lady-of-fatima-star-pro-life-apostolate/2028-02-10/
LOCATION:Planned Parenthood\, 1522 Bush Street\, San Francisco\, 94109\, United States
ATTACH;FMTTYPE=image/webp:https://starparish.com/wp-content/uploads/2025/12/ProLife-copy2.webp
END:VEVENT
BEGIN:VEVENT
DTSTART;TZID=America/Los_Angeles:20280217T180000
DTEND;TZID=America/Los_Angeles:20280217T190000
DTSTAMP:20260421T070656
CREATED:20251205T011015Z
LAST-MODIFIED:20251214T233140Z
UID:10000127-1834423200-1834426800@starparish.com
SUMMARY:Our Lady of Fatima Star Pro-Life Apostolate
DESCRIPTION:Prayer Vigils outside the Planned Parenthood Clinic at 1522 Bush St.\, San Francisco\, in reparation and repentance for the sin of abortion and its complete eradication from society. Eucharistic Adoration (individual silent prayer petitions) in the parish adoration chapel every Friday\, 7-8 p.m.
URL:https://starparish.com/event/our-lady-of-fatima-star-pro-life-apostolate/2028-02-17/
LOCATION:Planned Parenthood\, 1522 Bush Street\, San Francisco\, 94109\, United States
ATTACH;FMTTYPE=image/webp:https://starparish.com/wp-content/uploads/2025/12/ProLife-copy2.webp
END:VEVENT
BEGIN:VEVENT
DTSTART;TZID=America/Los_Angeles:20280224T180000
DTEND;TZID=America/Los_Angeles:20280224T190000
DTSTAMP:20260421T070656
CREATED:20251205T011015Z
LAST-MODIFIED:20251214T233140Z
UID:10000128-1835028000-1835031600@starparish.com
SUMMARY:Our Lady of Fatima Star Pro-Life Apostolate
DESCRIPTION:Prayer Vigils outside the Planned Parenthood Clinic at 1522 Bush St.\, San Francisco\, in reparation and repentance for the sin of abortion and its complete eradication from society. Eucharistic Adoration (individual silent prayer petitions) in the parish adoration chapel every Friday\, 7-8 p.m.
URL:https://starparish.com/event/our-lady-of-fatima-star-pro-life-apostolate/2028-02-24/
LOCATION:Planned Parenthood\, 1522 Bush Street\, San Francisco\, 94109\, United States
ATTACH;FMTTYPE=image/webp:https://starparish.com/wp-content/uploads/2025/12/ProLife-copy2.webp
END:VEVENT
BEGIN:VEVENT
DTSTART;TZID=America/Los_Angeles:20280302T180000
DTEND;TZID=America/Los_Angeles:20280302T190000
DTSTAMP:20260421T070656
CREATED:20251205T011015Z
LAST-MODIFIED:20251214T233140Z
UID:10000129-1835632800-1835636400@starparish.com
SUMMARY:Our Lady of Fatima Star Pro-Life Apostolate
DESCRIPTION:Prayer Vigils outside the Planned Parenthood Clinic at 1522 Bush St.\, San Francisco\, in reparation and repentance for the sin of abortion and its complete eradication from society. Eucharistic Adoration (individual silent prayer petitions) in the parish adoration chapel every Friday\, 7-8 p.m.
URL:https://starparish.com/event/our-lady-of-fatima-star-pro-life-apostolate/2028-03-02/
LOCATION:Planned Parenthood\, 1522 Bush Street\, San Francisco\, 94109\, United States
ATTACH;FMTTYPE=image/webp:https://starparish.com/wp-content/uploads/2025/12/ProLife-copy2.webp
END:VEVENT
BEGIN:VEVENT
DTSTART;TZID=America/Los_Angeles:20280309T180000
DTEND;TZID=America/Los_Angeles:20280309T190000
DTSTAMP:20260421T070656
CREATED:20251205T011015Z
LAST-MODIFIED:20251214T233140Z
UID:10000130-1836237600-1836241200@starparish.com
SUMMARY:Our Lady of Fatima Star Pro-Life Apostolate
DESCRIPTION:Prayer Vigils outside the Planned Parenthood Clinic at 1522 Bush St.\, San Francisco\, in reparation and repentance for the sin of abortion and its complete eradication from society. Eucharistic Adoration (individual silent prayer petitions) in the parish adoration chapel every Friday\, 7-8 p.m.
URL:https://starparish.com/event/our-lady-of-fatima-star-pro-life-apostolate/2028-03-09/
LOCATION:Planned Parenthood\, 1522 Bush Street\, San Francisco\, 94109\, United States
ATTACH;FMTTYPE=image/webp:https://starparish.com/wp-content/uploads/2025/12/ProLife-copy2.webp
END:VEVENT
BEGIN:VEVENT
DTSTART;TZID=America/Los_Angeles:20280316T180000
DTEND;TZID=America/Los_Angeles:20280316T190000
DTSTAMP:20260421T070656
CREATED:20251205T011015Z
LAST-MODIFIED:20251214T233140Z
UID:10000131-1836842400-1836846000@starparish.com
SUMMARY:Our Lady of Fatima Star Pro-Life Apostolate
DESCRIPTION:Prayer Vigils outside the Planned Parenthood Clinic at 1522 Bush St.\, San Francisco\, in reparation and repentance for the sin of abortion and its complete eradication from society. Eucharistic Adoration (individual silent prayer petitions) in the parish adoration chapel every Friday\, 7-8 p.m.
URL:https://starparish.com/event/our-lady-of-fatima-star-pro-life-apostolate/2028-03-16/
LOCATION:Planned Parenthood\, 1522 Bush Street\, San Francisco\, 94109\, United States
ATTACH;FMTTYPE=image/webp:https://starparish.com/wp-content/uploads/2025/12/ProLife-copy2.webp
END:VEVENT
BEGIN:VEVENT
DTSTART;TZID=America/Los_Angeles:20280323T180000
DTEND;TZID=America/Los_Angeles:20280323T190000
DTSTAMP:20260421T070656
CREATED:20251205T011015Z
LAST-MODIFIED:20251214T233140Z
UID:10000132-1837447200-1837450800@starparish.com
SUMMARY:Our Lady of Fatima Star Pro-Life Apostolate
DESCRIPTION:Prayer Vigils outside the Planned Parenthood Clinic at 1522 Bush St.\, San Francisco\, in reparation and repentance for the sin of abortion and its complete eradication from society. Eucharistic Adoration (individual silent prayer petitions) in the parish adoration chapel every Friday\, 7-8 p.m.
URL:https://starparish.com/event/our-lady-of-fatima-star-pro-life-apostolate/2028-03-23/
LOCATION:Planned Parenthood\, 1522 Bush Street\, San Francisco\, 94109\, United States
ATTACH;FMTTYPE=image/webp:https://starparish.com/wp-content/uploads/2025/12/ProLife-copy2.webp
END:VEVENT
BEGIN:VEVENT
DTSTART;TZID=America/Los_Angeles:20280330T180000
DTEND;TZID=America/Los_Angeles:20280330T190000
DTSTAMP:20260421T070656
CREATED:20251205T011015Z
LAST-MODIFIED:20251214T233140Z
UID:10000133-1838052000-1838055600@starparish.com
SUMMARY:Our Lady of Fatima Star Pro-Life Apostolate
DESCRIPTION:Prayer Vigils outside the Planned Parenthood Clinic at 1522 Bush St.\, San Francisco\, in reparation and repentance for the sin of abortion and its complete eradication from society. Eucharistic Adoration (individual silent prayer petitions) in the parish adoration chapel every Friday\, 7-8 p.m.
URL:https://starparish.com/event/our-lady-of-fatima-star-pro-life-apostolate/2028-03-30/
LOCATION:Planned Parenthood\, 1522 Bush Street\, San Francisco\, 94109\, United States
ATTACH;FMTTYPE=image/webp:https://starparish.com/wp-content/uploads/2025/12/ProLife-copy2.webp
END:VEVENT
BEGIN:VEVENT
DTSTART;TZID=America/Los_Angeles:20280406T180000
DTEND;TZID=America/Los_Angeles:20280406T190000
DTSTAMP:20260421T070656
CREATED:20251205T011015Z
LAST-MODIFIED:20251214T233140Z
UID:10000134-1838656800-1838660400@starparish.com
SUMMARY:Our Lady of Fatima Star Pro-Life Apostolate
DESCRIPTION:Prayer Vigils outside the Planned Parenthood Clinic at 1522 Bush St.\, San Francisco\, in reparation and repentance for the sin of abortion and its complete eradication from society. Eucharistic Adoration (individual silent prayer petitions) in the parish adoration chapel every Friday\, 7-8 p.m.
URL:https://starparish.com/event/our-lady-of-fatima-star-pro-life-apostolate/2028-04-06/
LOCATION:Planned Parenthood\, 1522 Bush Street\, San Francisco\, 94109\, United States
ATTACH;FMTTYPE=image/webp:https://starparish.com/wp-content/uploads/2025/12/ProLife-copy2.webp
END:VEVENT
BEGIN:VEVENT
DTSTART;TZID=America/Los_Angeles:20280413T180000
DTEND;TZID=America/Los_Angeles:20280413T190000
DTSTAMP:20260421T070656
CREATED:20251205T011015Z
LAST-MODIFIED:20251214T233140Z
UID:10000135-1839261600-1839265200@starparish.com
SUMMARY:Our Lady of Fatima Star Pro-Life Apostolate
DESCRIPTION:Prayer Vigils outside the Planned Parenthood Clinic at 1522 Bush St.\, San Francisco\, in reparation and repentance for the sin of abortion and its complete eradication from society. Eucharistic Adoration (individual silent prayer petitions) in the parish adoration chapel every Friday\, 7-8 p.m.
URL:https://starparish.com/event/our-lady-of-fatima-star-pro-life-apostolate/2028-04-13/
LOCATION:Planned Parenthood\, 1522 Bush Street\, San Francisco\, 94109\, United States
ATTACH;FMTTYPE=image/webp:https://starparish.com/wp-content/uploads/2025/12/ProLife-copy2.webp
END:VEVENT
BEGIN:VEVENT
DTSTART;TZID=America/Los_Angeles:20280420T180000
DTEND;TZID=America/Los_Angeles:20280420T190000
DTSTAMP:20260421T070656
CREATED:20251205T011015Z
LAST-MODIFIED:20251214T233140Z
UID:10000136-1839866400-1839870000@starparish.com
SUMMARY:Our Lady of Fatima Star Pro-Life Apostolate
DESCRIPTION:Prayer Vigils outside the Planned Parenthood Clinic at 1522 Bush St.\, San Francisco\, in reparation and repentance for the sin of abortion and its complete eradication from society. Eucharistic Adoration (individual silent prayer petitions) in the parish adoration chapel every Friday\, 7-8 p.m.
URL:https://starparish.com/event/our-lady-of-fatima-star-pro-life-apostolate/2028-04-20/
LOCATION:Planned Parenthood\, 1522 Bush Street\, San Francisco\, 94109\, United States
ATTACH;FMTTYPE=image/webp:https://starparish.com/wp-content/uploads/2025/12/ProLife-copy2.webp
END:VEVENT
END:VCALENDAR